BEGIN:VCALENDAR
VERSION:2.0
PRODID:-//ActiveAid - ECPv6.15.17.1//NONSGML v1.0//EN
CALSCALE:GREGORIAN
METHOD:PUBLISH
X-ORIGINAL-URL:https://activeaid.com
X-WR-CALDESC:Events for ActiveAid
REFRESH-INTERVAL;VALUE=DURATION:PT1H
X-Robots-Tag:noindex
X-PUBLISHED-TTL:PT1H
BEGIN:VTIMEZONE
TZID:America/Chicago
BEGIN:DAYLIGHT
TZOFFSETFROM:-0600
TZOFFSETTO:-0500
TZNAME:CDT
DTSTART:20220313T080000
END:DAYLIGHT
BEGIN:STANDARD
TZOFFSETFROM:-0500
TZOFFSETTO:-0600
TZNAME:CST
DTSTART:20221106T070000
END:STANDARD
BEGIN:DAYLIGHT
TZOFFSETFROM:-0600
TZOFFSETTO:-0500
TZNAME:CDT
DTSTART:20230312T080000
END:DAYLIGHT
BEGIN:STANDARD
TZOFFSETFROM:-0500
TZOFFSETTO:-0600
TZNAME:CST
DTSTART:20231105T070000
END:STANDARD
BEGIN:DAYLIGHT
TZOFFSETFROM:-0600
TZOFFSETTO:-0500
TZNAME:CDT
DTSTART:20240310T080000
END:DAYLIGHT
BEGIN:STANDARD
TZOFFSETFROM:-0500
TZOFFSETTO:-0600
TZNAME:CST
DTSTART:20241103T070000
END:STANDARD
END:VTIMEZONE
BEGIN:VEVENT
DTSTART;TZID=America/Chicago:20230413T080000
DTEND;TZID=America/Chicago:20230415T170000
DTSTAMP:20260420T223421
CREATED:20230201T144903Z
LAST-MODIFIED:20230201T144903Z
UID:11066-1681372800-1681578000@activeaid.com
SUMMARY:ISS
DESCRIPTION:
URL:https://activeaid.com/event/iss/
LOCATION:David L. Lawrence Convention Center\, 1000 Fort Duquesne Blvd\, Pittsburgh\, PA\, United States
END:VEVENT
BEGIN:VEVENT
DTSTART;TZID=America/Chicago:20230417T080000
DTEND;TZID=America/Chicago:20230419T170000
DTSTAMP:20260420T223421
CREATED:20200129T205800Z
LAST-MODIFIED:20230201T144128Z
UID:6559-1681718400-1681923600@activeaid.com
SUMMARY:ASIA
DESCRIPTION:
URL:https://activeaid.com/event/asia/
LOCATION:New Orleans Marriott\, 555 Canal St\, New Orleans\, LA\, 70130\, United States
CATEGORIES:Tradeshows
END:VEVENT
BEGIN:VEVENT
DTSTART;TZID=America/Chicago:20230420T080000
DTEND;TZID=America/Chicago:20230423T170000
DTSTAMP:20260420T223421
CREATED:20230201T145014Z
LAST-MODIFIED:20230201T145014Z
UID:11069-1681977600-1682269200@activeaid.com
SUMMARY:AOTA
DESCRIPTION:
URL:https://activeaid.com/event/aota/
LOCATION:Kansas City\, Kansas City\, MO\, United States
END:VEVENT
END:VCALENDAR